BEGIN:VCALENDAR
VERSION:2.0
PRODID:-//Southeast Extinguisher - ECPv6.15.20//NONSGML v1.0//EN
CALSCALE:GREGORIAN
METHOD:PUBLISH
X-WR-CALNAME:Southeast Extinguisher
X-ORIGINAL-URL:https://seextinguisher.com
X-WR-CALDESC:Events for Southeast Extinguisher
REFRESH-INTERVAL;VALUE=DURATION:PT1H
X-Robots-Tag:noindex
X-PUBLISHED-TTL:PT1H
BEGIN:VTIMEZONE
TZID:UTC
BEGIN:STANDARD
TZOFFSETFROM:+0000
TZOFFSETTO:+0000
TZNAME:UTC
DTSTART:20230101T000000
END:STANDARD
END:VTIMEZONE
BEGIN:VEVENT
DTSTART;VALUE=DATE:20250311
DTEND;VALUE=DATE:20250321
DTSTAMP:20260421T221555
CREATED:20240829T165639Z
LAST-MODIFIED:20250219T210650Z
UID:576-1741651200-1742515199@seextinguisher.com
SUMMARY:Sitka Hood Cleaning
DESCRIPTION:Commercial Hood Cleaning and Inspections for Sitka.
URL:https://seextinguisher.com/event/sitka-hood-cleaning/
CATEGORIES:Travel
ATTACH;FMTTYPE=image/png:https://seextinguisher.com/wp-content/uploads/2024/08/Hood-Cleaning.png
END:VEVENT
BEGIN:VEVENT
DTSTART;VALUE=DATE:20250224
DTEND;VALUE=DATE:20250301
DTSTAMP:20260421T221555
CREATED:20250124T012018Z
LAST-MODIFIED:20250219T211748Z
UID:683-1740387600-1740733199@seextinguisher.com
SUMMARY:Classroom Unavailable
DESCRIPTION:
URL:https://seextinguisher.com/event/classroom-unavailable/
CATEGORIES:Classes
ATTACH;FMTTYPE=image/jpeg:https://seextinguisher.com/wp-content/uploads/2024/08/Southeast.jpg
END:VEVENT
BEGIN:VEVENT
DTSTART;VALUE=DATE:20250130
DTEND;VALUE=DATE:20250201
DTSTAMP:20260421T221555
CREATED:20250124T010450Z
LAST-MODIFIED:20250124T010450Z
UID:677-1738195200-1738367999@seextinguisher.com
SUMMARY:Hoonah Inspections
DESCRIPTION:Alarm Testing and Inspections for Hoonah.
URL:https://seextinguisher.com/event/hoonah-inspections/
CATEGORIES:Travel
ATTACH;FMTTYPE=image/png:https://seextinguisher.com/wp-content/uploads/2024/08/Alarm-Testing.png
END:VEVENT
BEGIN:VEVENT
DTSTART;VALUE=DATE:20250109
DTEND;VALUE=DATE:20250112
DTSTAMP:20260421T221555
CREATED:20250109T204407Z
LAST-MODIFIED:20250109T204407Z
UID:668-1736380800-1736639999@seextinguisher.com
SUMMARY:Metlaketla Inspections
DESCRIPTION:
URL:https://seextinguisher.com/event/metlaketla-inspections/
CATEGORIES:Travel
ATTACH;FMTTYPE=image/jpeg:https://seextinguisher.com/wp-content/uploads/2024/08/Southeast.jpg
END:VEVENT
BEGIN:VEVENT
DTSTART;VALUE=DATE:20241128
DTEND;VALUE=DATE:20241129
DTSTAMP:20260421T221555
CREATED:20240826T195518Z
LAST-MODIFIED:20240826T195518Z
UID:565-1732752000-1732838399@seextinguisher.com
SUMMARY:Office Closure
DESCRIPTION:Office closed for Thanksgiving.
URL:https://seextinguisher.com/event/office-closure-2/
CATEGORIES:Holidays
END:VEVENT
BEGIN:VEVENT
DTSTART;VALUE=DATE:20240930
DTEND;VALUE=DATE:20241004
DTSTAMP:20260421T221555
CREATED:20240912T192344Z
LAST-MODIFIED:20240912T192344Z
UID:581-1727654400-1727999999@seextinguisher.com
SUMMARY:Ketchikan Commercial Hood Cleaning
DESCRIPTION:
URL:https://seextinguisher.com/event/ketchikan-commercial-hood-cleaning/
CATEGORIES:Travel
ATTACH;FMTTYPE=image/png:https://seextinguisher.com/wp-content/uploads/2024/08/Hood-Cleaning.png
END:VEVENT
BEGIN:VEVENT
DTSTART;VALUE=DATE:20240915
DTEND;VALUE=DATE:20240919
DTSTAMP:20260421T221555
CREATED:20240829T165507Z
LAST-MODIFIED:20240829T171156Z
UID:574-1726358400-1726703999@seextinguisher.com
SUMMARY:Angoon Inspections
DESCRIPTION:Fire Extinguisher\, Marine Suppression\, and Alarm Testing and Inspections for Angoon.
URL:https://seextinguisher.com/event/angoon-inspections/
CATEGORIES:Travel
ATTACH;FMTTYPE=image/png:https://seextinguisher.com/wp-content/uploads/2024/08/Alarm-Testing.png
END:VEVENT
BEGIN:VEVENT
DTSTART;VALUE=DATE:20240911
DTEND;VALUE=DATE:20240915
DTSTAMP:20260421T221555
CREATED:20240829T165428Z
LAST-MODIFIED:20240829T171237Z
UID:572-1726012800-1726358399@seextinguisher.com
SUMMARY:Kake Inspections
DESCRIPTION:Fire Extinguisher\, Marine Suppression\, and Alarm Testing and Inspections for Kake.
URL:https://seextinguisher.com/event/kake-inspections/
CATEGORIES:Travel
ATTACH;FMTTYPE=image/png:https://seextinguisher.com/wp-content/uploads/2024/08/Alarm-Testing.png
END:VEVENT
END:VCALENDAR