BEGIN:VCALENDAR
VERSION:2.0
PRODID:-//Southeast Extinguisher - ECPv6.15.20//NONSGML v1.0//EN
CALSCALE:GREGORIAN
METHOD:PUBLISH
X-ORIGINAL-URL:https://seextinguisher.com
X-WR-CALDESC:Events for Southeast Extinguisher
REFRESH-INTERVAL;VALUE=DURATION:PT1H
X-Robots-Tag:noindex
X-PUBLISHED-TTL:PT1H
BEGIN:VTIMEZONE
TZID:UTC
BEGIN:STANDARD
TZOFFSETFROM:+0000
TZOFFSETTO:+0000
TZNAME:UTC
DTSTART:20240101T000000
END:STANDARD
END:VTIMEZONE
BEGIN:VEVENT
DTSTART;VALUE=DATE:20250604
DTEND;VALUE=DATE:20250629
DTSTAMP:20260424T124625
CREATED:20250219T210920Z
LAST-MODIFIED:20250522T202618Z
UID:695-1748995200-1751155199@seextinguisher.com
SUMMARY:Wrangell Inspections
DESCRIPTION:Fire Extinguishers\, Alarm Testing and Inspections.
URL:https://seextinguisher.com/event/wrangell-inspections/
CATEGORIES:Travel
ATTACH;FMTTYPE=image/png:https://seextinguisher.com/wp-content/uploads/2024/08/Alarm-Testing.png
END:VEVENT
END:VCALENDAR