BEGIN:VCALENDAR
VERSION:2.0
PRODID:-//Southeast Extinguisher - ECPv6.15.20//NONSGML v1.0//EN
CALSCALE:GREGORIAN
METHOD:PUBLISH
X-WR-CALNAME:Southeast Extinguisher
X-ORIGINAL-URL:https://seextinguisher.com
X-WR-CALDESC:Events for Southeast Extinguisher
REFRESH-INTERVAL;VALUE=DURATION:PT1H
X-Robots-Tag:noindex
X-PUBLISHED-TTL:PT1H
BEGIN:VTIMEZONE
TZID:UTC
BEGIN:STANDARD
TZOFFSETFROM:+0000
TZOFFSETTO:+0000
TZNAME:UTC
DTSTART:20240101T000000
END:STANDARD
END:VTIMEZONE
BEGIN:VEVENT
DTSTART;VALUE=DATE:20250418
DTEND;VALUE=DATE:20250427
DTSTAMP:20260424T202232
CREATED:20240826T195311Z
LAST-MODIFIED:20250417T175442Z
UID:561-1744934400-1745711999@seextinguisher.com
SUMMARY:Haines Inspections
DESCRIPTION:Classroom reserved for private event.
URL:https://seextinguisher.com/event/classroom-reserved/
CATEGORIES:Travel
ATTACH;FMTTYPE=image/jpeg:https://seextinguisher.com/wp-content/uploads/2024/08/Southeast.jpg
END:VEVENT
END:VCALENDAR