BEGIN:VCALENDAR
VERSION:2.0
PRODID:-//Southeast Extinguisher - ECPv6.15.20//NONSGML v1.0//EN
CALSCALE:GREGORIAN
METHOD:PUBLISH
X-ORIGINAL-URL:https://seextinguisher.com
X-WR-CALDESC:Events for Southeast Extinguisher
REFRESH-INTERVAL;VALUE=DURATION:PT1H
X-Robots-Tag:noindex
X-PUBLISHED-TTL:PT1H
BEGIN:VTIMEZONE
TZID:UTC
BEGIN:STANDARD
TZOFFSETFROM:+0000
TZOFFSETTO:+0000
TZNAME:UTC
DTSTART:20230101T000000
END:STANDARD
END:VTIMEZONE
BEGIN:VEVENT
DTSTART;VALUE=DATE:20240930
DTEND;VALUE=DATE:20241004
DTSTAMP:20260425T175817
CREATED:20240912T192344Z
LAST-MODIFIED:20240912T192344Z
UID:581-1727654400-1727999999@seextinguisher.com
SUMMARY:Ketchikan Commercial Hood Cleaning
DESCRIPTION:
URL:https://seextinguisher.com/event/ketchikan-commercial-hood-cleaning/
CATEGORIES:Travel
ATTACH;FMTTYPE=image/png:https://seextinguisher.com/wp-content/uploads/2024/08/Hood-Cleaning.png
END:VEVENT
END:VCALENDAR