BEGIN:VCALENDAR
VERSION:2.0
PRODID:-//Southeast Extinguisher - ECPv6.15.20//NONSGML v1.0//EN
CALSCALE:GREGORIAN
METHOD:PUBLISH
X-ORIGINAL-URL:https://seextinguisher.com
X-WR-CALDESC:Events for Southeast Extinguisher
REFRESH-INTERVAL;VALUE=DURATION:PT1H
X-Robots-Tag:noindex
X-PUBLISHED-TTL:PT1H
BEGIN:VTIMEZONE
TZID:UTC
BEGIN:STANDARD
TZOFFSETFROM:+0000
TZOFFSETTO:+0000
TZNAME:UTC
DTSTART:20240101T000000
END:STANDARD
END:VTIMEZONE
BEGIN:VEVENT
DTSTART;VALUE=DATE:20250603
DTEND;VALUE=DATE:20250604
DTSTAMP:20260425T200358
CREATED:20240826T195350Z
LAST-MODIFIED:20250522T201822Z
UID:563-1748908800-1748995199@seextinguisher.com
SUMMARY:Skills Testing
DESCRIPTION:Classroom available for Skills Testing.
URL:https://seextinguisher.com/event/skills-testing/
CATEGORIES:Classes
END:VEVENT
BEGIN:VEVENT
DTSTART;VALUE=DATE:20250527
DTEND;VALUE=DATE:20250528
DTSTAMP:20260425T200358
CREATED:20250109T203235Z
LAST-MODIFIED:20250522T201633Z
UID:652-1748304000-1748390399@seextinguisher.com
SUMMARY:Private Class
DESCRIPTION:
URL:https://seextinguisher.com/event/private-class-5/
CATEGORIES:Classes
END:VEVENT
BEGIN:VEVENT
DTSTART;VALUE=DATE:20250509
DTEND;VALUE=DATE:20250511
DTSTAMP:20260425T200358
CREATED:20250109T203153Z
LAST-MODIFIED:20250417T175202Z
UID:650-1746748800-1746921599@seextinguisher.com
SUMMARY:Private Class
DESCRIPTION:
URL:https://seextinguisher.com/event/private-class-4/
CATEGORIES:Classes
END:VEVENT
BEGIN:VEVENT
DTSTART;VALUE=DATE:20250430
DTEND;VALUE=DATE:20250501
DTSTAMP:20260425T200358
CREATED:20240826T195123Z
LAST-MODIFIED:20250417T175114Z
UID:557-1745971200-1746057599@seextinguisher.com
SUMMARY:Private Class
DESCRIPTION:
URL:https://seextinguisher.com/event/private-class/
CATEGORIES:Classes
END:VEVENT
BEGIN:VEVENT
DTSTART;TZID=UTC:20250416T173000
DTEND;TZID=UTC:20250417T193000
DTSTAMP:20260425T200358
CREATED:20240823T172201Z
LAST-MODIFIED:20250313T231457Z
UID:421-1744824600-1744918200@seextinguisher.com
SUMMARY:Community Class CPR/AED
DESCRIPTION:An American Heart Association Certified class to the public\, offering Adult\, child\, & infant certifications. We have a limit of 12 people per class. REGISTRATION IS REQUIRED.\nTo reserve & pay for your spot in the class please call or email us.
URL:https://seextinguisher.com/event/community-class-first-aid-cpr-aed/
LOCATION:Southeast Extinguisher Service\, 8319 Airport Blvd\, Juneau\, AK\, 99801\, United States
CATEGORIES:Classes
ATTACH;FMTTYPE=image/jpeg:https://seextinguisher.com/wp-content/uploads/2024/08/AHA.jpg
ORGANIZER;CN="Southeast Extinguisher Service":MAILTO:training@seextinguisher.com
END:VEVENT
BEGIN:VEVENT
DTSTART;VALUE=DATE:20250224
DTEND;VALUE=DATE:20250301
DTSTAMP:20260425T200358
CREATED:20250124T012018Z
LAST-MODIFIED:20250219T211748Z
UID:683-1740387600-1740733199@seextinguisher.com
SUMMARY:Classroom Unavailable
DESCRIPTION:
URL:https://seextinguisher.com/event/classroom-unavailable/
CATEGORIES:Classes
ATTACH;FMTTYPE=image/jpeg:https://seextinguisher.com/wp-content/uploads/2024/08/Southeast.jpg
END:VEVENT
END:VCALENDAR