BEGIN:VCALENDAR
VERSION:2.0
PRODID:-//Southeast Extinguisher - ECPv6.15.20//NONSGML v1.0//EN
CALSCALE:GREGORIAN
METHOD:PUBLISH
X-ORIGINAL-URL:https://seextinguisher.com
X-WR-CALDESC:Events for Southeast Extinguisher
REFRESH-INTERVAL;VALUE=DURATION:PT1H
X-Robots-Tag:noindex
X-PUBLISHED-TTL:PT1H
BEGIN:VTIMEZONE
TZID:UTC
BEGIN:STANDARD
TZOFFSETFROM:+0000
TZOFFSETTO:+0000
TZNAME:UTC
DTSTART:20250101T000000
END:STANDARD
END:VTIMEZONE
BEGIN:VEVENT
DTSTART;TZID=UTC:20260413T090000
DTEND;TZID=UTC:20260413T143000
DTSTAMP:20260421T185106
CREATED:20240919T231252Z
LAST-MODIFIED:20260403T235728Z
UID:609-1776070800-1776090600@seextinguisher.com
SUMMARY:Community Class First Aid & CPR/AED
DESCRIPTION:An American Heart Association Certified class to the public\, offering Adult\, child\, & infant certifications. We have a limit of 12 people per class. REGISTRATION IS REQUIRED.\nTo reserve & pay for your spot in the class please call or email us.
URL:https://seextinguisher.com/event/community-class-2/
CATEGORIES:Classes
ATTACH;FMTTYPE=image/jpeg:https://seextinguisher.com/wp-content/uploads/2024/08/AHA.jpg
END:VEVENT
END:VCALENDAR