BEGIN:VCALENDAR
VERSION:2.0
PRODID:-//Southeast Extinguisher - ECPv6.15.20//NONSGML v1.0//EN
CALSCALE:GREGORIAN
METHOD:PUBLISH
X-ORIGINAL-URL:https://seextinguisher.com
X-WR-CALDESC:Events for Southeast Extinguisher
REFRESH-INTERVAL;VALUE=DURATION:PT1H
X-Robots-Tag:noindex
X-PUBLISHED-TTL:PT1H
BEGIN:VTIMEZONE
TZID:UTC
BEGIN:STANDARD
TZOFFSETFROM:+0000
TZOFFSETTO:+0000
TZNAME:UTC
DTSTART:20240101T000000
END:STANDARD
END:VTIMEZONE
BEGIN:VEVENT
DTSTART;VALUE=DATE:20250715
DTEND;VALUE=DATE:20250716
DTSTAMP:20260426T011558
CREATED:20250109T204151Z
LAST-MODIFIED:20250709T001300Z
UID:663-1752537600-1752623999@seextinguisher.com
SUMMARY:Private Class
DESCRIPTION:
URL:https://seextinguisher.com/event/private-class-7/
LOCATION:Southeast Extinguisher Service\, 8319 Airport Blvd\, Juneau\, AK\, 99801\, United States
CATEGORIES:Classes
END:VEVENT
END:VCALENDAR