BEGIN:VCALENDAR
VERSION:2.0
PRODID:-//Southeast Extinguisher - ECPv6.15.20//NONSGML v1.0//EN
CALSCALE:GREGORIAN
METHOD:PUBLISH
X-ORIGINAL-URL:https://seextinguisher.com
X-WR-CALDESC:Events for Southeast Extinguisher
REFRESH-INTERVAL;VALUE=DURATION:PT1H
X-Robots-Tag:noindex
X-PUBLISHED-TTL:PT1H
BEGIN:VTIMEZONE
TZID:UTC
BEGIN:STANDARD
TZOFFSETFROM:+0000
TZOFFSETTO:+0000
TZNAME:UTC
DTSTART:20250101T000000
END:STANDARD
END:VTIMEZONE
BEGIN:VEVENT
DTSTART;VALUE=DATE:20260106
DTEND;VALUE=DATE:20260107
DTSTAMP:20260421T221033
CREATED:20240826T195218Z
LAST-MODIFIED:20251220T014203Z
UID:559-1767657600-1767743999@seextinguisher.com
SUMMARY:Private Class
DESCRIPTION:
URL:https://seextinguisher.com/event/private-class-2/
CATEGORIES:Classes
END:VEVENT
END:VCALENDAR